BEGIN:VCALENDAR
VERSION:2.0
PRODID:https://www.bamberg.info/
X-PUBLISHED-TTL:P1D
BEGIN:VEVENT
UID:69e6de2fa9932
DTSTART:20260504T184500Z
SEQUENCE:0
TRANSP:OPAQUE
DTEND:20260504T201500Z
URL:https://www.bamberg.info/veranstaltungen/abendrundgang_schlaflos_in_bam
 -388969-12596775/
LOCATION:- Veranstaltung ohne festen Ort - Bamberg
SUMMARY:Abendrundgang: Schlaflos in Bamberg
DTSTAMP:20260421T041719Z
END:VEVENT
END:VCALENDAR