BEGIN:VCALENDAR
VERSION:2.0
PRODID:https://www.bamberg.info/
X-PUBLISHED-TTL:P1D
BEGIN:VEVENT
UID:69e640c1ce1bd
DTSTART;VALUE=DATE:20261106
SEQUENCE:0
TRANSP:OPAQUE
DTEND;VALUE=DATE:20261106
URL:https://www.bamberg.info/veranstaltungen/annette_von_bamberg-680687-126
 01545/
LOCATION:Kulturboden in der Marktscheune UG - Hallstadt
SUMMARY:Annette von Bamberg
DESCRIPTION:Es gibt ein Leben über 50\, 60 … jedenfalls für Frauen!
X-MICROSOFT-CDO-ALLDAYEVENT:TRUE
DTSTAMP:20260420T170537Z
END:VEVENT
END:VCALENDAR