BEGIN:VCALENDAR
VERSION:2.0
PRODID:https://www.bamberg.info/
X-PUBLISHED-TTL:P1D
BEGIN:VEVENT
UID:69e64f8995122
DTSTART;VALUE=DATE:20260507
SEQUENCE:0
TRANSP:OPAQUE
DTEND;VALUE=DATE:20260507
URL:https://www.bamberg.info/veranstaltungen/artklusiv-667279/
LOCATION:Diözesanmuseum des Erzbistums Bamberg - Bamberg
SUMMARY:ARTklusiv
X-MICROSOFT-CDO-ALLDAYEVENT:TRUE
DTSTAMP:20260420T180841Z
END:VEVENT
END:VCALENDAR