BEGIN:VCALENDAR
VERSION:2.0
PRODID:https://www.bamberg.info/
X-PUBLISHED-TTL:P1D
BEGIN:VEVENT
UID:69e54511ed3e6
DTSTART;VALUE=DATE:20260604
SEQUENCE:0
TRANSP:OPAQUE
DTEND;VALUE=DATE:20260604
URL:https://www.bamberg.info/veranstaltungen/artklusiv-667281-12593781/
LOCATION:Diözesanmuseum des Erzbistums Bamberg - Bamberg
SUMMARY:ARTklusiv
X-MICROSOFT-CDO-ALLDAYEVENT:TRUE
DTSTAMP:20260419T231145Z
END:VEVENT
END:VCALENDAR