BEGIN:VCALENDAR
VERSION:2.0
PRODID:https://www.bamberg.info/
X-PUBLISHED-TTL:P1D
BEGIN:VEVENT
UID:69e587700580e
DTSTART;VALUE=DATE:20260806
SEQUENCE:0
TRANSP:OPAQUE
DTEND;VALUE=DATE:20260806
URL:https://www.bamberg.info/veranstaltungen/artklusiv-667285-12593785/
LOCATION:Diözesanmuseum des Erzbistums Bamberg - Bamberg
SUMMARY:ARTklusiv
X-MICROSOFT-CDO-ALLDAYEVENT:TRUE
DTSTAMP:20260420T035456Z
END:VEVENT
END:VCALENDAR