BEGIN:VCALENDAR
VERSION:2.0
PRODID:https://www.bamberg.info/
X-PUBLISHED-TTL:P1D
BEGIN:VEVENT
UID:69e57d7590262
DTSTART;VALUE=DATE:20260903
SEQUENCE:0
TRANSP:OPAQUE
DTEND;VALUE=DATE:20260903
URL:https://www.bamberg.info/veranstaltungen/artklusiv-667287-12593787/
LOCATION:Diözesanmuseum des Erzbistums Bamberg - Bamberg
SUMMARY:ARTklusiv
X-MICROSOFT-CDO-ALLDAYEVENT:TRUE
DTSTAMP:20260420T031221Z
END:VEVENT
END:VCALENDAR