BEGIN:VCALENDAR
VERSION:2.0
PRODID:https://www.bamberg.info/
X-PUBLISHED-TTL:P1D
BEGIN:VEVENT
UID:69e54a9164ebc
DTSTART;VALUE=DATE:20260920
SEQUENCE:0
TRANSP:OPAQUE
DTEND;VALUE=DATE:20260920
URL:https://www.bamberg.info/veranstaltungen/atze_schroeder-698957/
LOCATION:Konzert- und Kongresshalle - Bamberg
SUMMARY:Atze Schröder
DESCRIPTION:Lovemachine
X-MICROSOFT-CDO-ALLDAYEVENT:TRUE
DTSTAMP:20260419T233513Z
END:VEVENT
END:VCALENDAR