BEGIN:VCALENDAR
VERSION:2.0
PRODID:https://www.bamberg.info/
X-PUBLISHED-TTL:P1D
BEGIN:VEVENT
UID:69e587b7087f5
DTSTART:20260421T070000Z
SEQUENCE:0
TRANSP:OPAQUE
DTEND:20260421T150000Z
URL:https://www.bamberg.info/veranstaltungen/ausstellung_bananarama-760037-
 12660351/
LOCATION:Naturkunde-Museum - Bamberg
SUMMARY:Ausstellung „BananaRama“
DTSTAMP:20260420T035607Z
END:VEVENT
BEGIN:VEVENT
UID:69e587b708820
DTSTART:20260422T070000Z
SEQUENCE:0
TRANSP:OPAQUE
DTEND:20260422T150000Z
URL:https://www.bamberg.info/veranstaltungen/ausstellung_bananarama-760037-
 12660351/
LOCATION:Naturkunde-Museum - Bamberg
SUMMARY:Ausstellung „BananaRama“
DTSTAMP:20260420T035607Z
END:VEVENT
BEGIN:VEVENT
UID:69e587b70882a
DTSTART:20260423T070000Z
SEQUENCE:0
TRANSP:OPAQUE
DTEND:20260423T150000Z
URL:https://www.bamberg.info/veranstaltungen/ausstellung_bananarama-760037-
 12660351/
LOCATION:Naturkunde-Museum - Bamberg
SUMMARY:Ausstellung „BananaRama“
DTSTAMP:20260420T035607Z
END:VEVENT
BEGIN:VEVENT
UID:69e587b708832
DTSTART:20260424T070000Z
SEQUENCE:0
TRANSP:OPAQUE
DTEND:20260424T150000Z
URL:https://www.bamberg.info/veranstaltungen/ausstellung_bananarama-760037-
 12660351/
LOCATION:Naturkunde-Museum - Bamberg
SUMMARY:Ausstellung „BananaRama“
DTSTAMP:20260420T035607Z
END:VEVENT
BEGIN:VEVENT
UID:69e587b70883c
DTSTART:20260425T070000Z
SEQUENCE:0
TRANSP:OPAQUE
DTEND:20260425T150000Z
URL:https://www.bamberg.info/veranstaltungen/ausstellung_bananarama-760037-
 12660351/
LOCATION:Naturkunde-Museum - Bamberg
SUMMARY:Ausstellung „BananaRama“
DTSTAMP:20260420T035607Z
END:VEVENT
END:VCALENDAR