BEGIN:VCALENDAR
VERSION:2.0
PRODID:https://www.bamberg.info/
X-PUBLISHED-TTL:P1D
BEGIN:VEVENT
UID:69e588260576f
DTSTART:20260421T090000Z
SEQUENCE:0
TRANSP:OPAQUE
DTEND:20260421T150000Z
URL:https://www.bamberg.info/veranstaltungen/ausstellung_bilderspaziergang-
 802025-12680505/
LOCATION:Historisches Museum - Bamberg
SUMMARY:Ausstellung \"Bilderspaziergang | Gemälde erzählen Geschichten\"
DTSTAMP:20260420T035758Z
END:VEVENT
BEGIN:VEVENT
UID:69e58826057a8
DTSTART:20260422T090000Z
SEQUENCE:0
TRANSP:OPAQUE
DTEND:20260422T150000Z
URL:https://www.bamberg.info/veranstaltungen/ausstellung_bilderspaziergang-
 802025-12680505/
LOCATION:Historisches Museum - Bamberg
SUMMARY:Ausstellung \"Bilderspaziergang | Gemälde erzählen Geschichten\"
DTSTAMP:20260420T035758Z
END:VEVENT
BEGIN:VEVENT
UID:69e58826057b2
DTSTART:20260423T090000Z
SEQUENCE:0
TRANSP:OPAQUE
DTEND:20260423T150000Z
URL:https://www.bamberg.info/veranstaltungen/ausstellung_bilderspaziergang-
 802025-12680505/
LOCATION:Historisches Museum - Bamberg
SUMMARY:Ausstellung \"Bilderspaziergang | Gemälde erzählen Geschichten\"
DTSTAMP:20260420T035758Z
END:VEVENT
BEGIN:VEVENT
UID:69e58826057ba
DTSTART:20260424T090000Z
SEQUENCE:0
TRANSP:OPAQUE
DTEND:20260424T150000Z
URL:https://www.bamberg.info/veranstaltungen/ausstellung_bilderspaziergang-
 802025-12680505/
LOCATION:Historisches Museum - Bamberg
SUMMARY:Ausstellung \"Bilderspaziergang | Gemälde erzählen Geschichten\"
DTSTAMP:20260420T035758Z
END:VEVENT
BEGIN:VEVENT
UID:69e58826057c2
DTSTART:20260425T090000Z
SEQUENCE:0
TRANSP:OPAQUE
DTEND:20260425T150000Z
URL:https://www.bamberg.info/veranstaltungen/ausstellung_bilderspaziergang-
 802025-12680505/
LOCATION:Historisches Museum - Bamberg
SUMMARY:Ausstellung \"Bilderspaziergang | Gemälde erzählen Geschichten\"
DTSTAMP:20260420T035758Z
END:VEVENT
END:VCALENDAR