BEGIN:VCALENDAR
VERSION:2.0
PRODID:https://www.bamberg.info/
X-PUBLISHED-TTL:P1D
BEGIN:VEVENT
UID:69e587ca46945
DTSTART:20260423T090000Z
SEQUENCE:0
TRANSP:OPAQUE
DTEND:20260423T150000Z
URL:https://www.bamberg.info/veranstaltungen/ausstellung_choose_your_color-
 802883-12681203/
LOCATION:Schloss Weissenstein - Pommersfelden
SUMMARY:Ausstellung: „choose your color in between“
DESCRIPTION:Wenn zeitgenössische Kunst auf barocke Pracht trifft\, entsteh
 en besondere Momente
DTSTAMP:20260420T035626Z
END:VEVENT
BEGIN:VEVENT
UID:69e587ca46987
DTSTART:20260424T090000Z
SEQUENCE:0
TRANSP:OPAQUE
DTEND:20260424T150000Z
URL:https://www.bamberg.info/veranstaltungen/ausstellung_choose_your_color-
 802883-12681203/
LOCATION:Schloss Weissenstein - Pommersfelden
SUMMARY:Ausstellung: „choose your color in between“
DESCRIPTION:Wenn zeitgenössische Kunst auf barocke Pracht trifft\, entsteh
 en besondere Momente
DTSTAMP:20260420T035626Z
END:VEVENT
BEGIN:VEVENT
UID:69e587ca4699f
DTSTART:20260425T090000Z
SEQUENCE:0
TRANSP:OPAQUE
DTEND:20260425T150000Z
URL:https://www.bamberg.info/veranstaltungen/ausstellung_choose_your_color-
 802883-12681203/
LOCATION:Schloss Weissenstein - Pommersfelden
SUMMARY:Ausstellung: „choose your color in between“
DESCRIPTION:Wenn zeitgenössische Kunst auf barocke Pracht trifft\, entsteh
 en besondere Momente
DTSTAMP:20260420T035626Z
END:VEVENT
END:VCALENDAR