BEGIN:VCALENDAR
VERSION:2.0
PRODID:https://www.bamberg.info/
X-PUBLISHED-TTL:P1D
BEGIN:VEVENT
UID:69e78095171ae
DTSTART:20260710T080000Z
SEQUENCE:0
TRANSP:OPAQUE
DTEND:20260710T150000Z
URL:https://www.bamberg.info/veranstaltungen/ausstellung_feuer_farbe_licht-
 807351-12682065/
LOCATION:Historisches Museum - Bamberg
SUMMARY:Ausstellung „Feuer Farbe Licht“
DESCRIPTION:Emaillewelten von Nora Kovats
DTSTAMP:20260421T155013Z
END:VEVENT
BEGIN:VEVENT
UID:69e7809517209
DTSTART:20260711T080000Z
SEQUENCE:0
TRANSP:OPAQUE
DTEND:20260711T150000Z
URL:https://www.bamberg.info/veranstaltungen/ausstellung_feuer_farbe_licht-
 807351-12682065/
LOCATION:Historisches Museum - Bamberg
SUMMARY:Ausstellung „Feuer Farbe Licht“
DESCRIPTION:Emaillewelten von Nora Kovats
DTSTAMP:20260421T155013Z
END:VEVENT
END:VCALENDAR