BEGIN:VCALENDAR
VERSION:2.0
PRODID:https://www.bamberg.info/
X-PUBLISHED-TTL:P1D
BEGIN:VEVENT
UID:69e587b7e00a4
DTSTART:20260421T090000Z
SEQUENCE:0
TRANSP:OPAQUE
DTEND:20260421T150000Z
URL:https://www.bamberg.info/veranstaltungen/ausstellung_highlights_studioa
 -802033-12680669/
LOCATION:Historisches Museum - Bamberg
SUMMARY:Ausstellung \"Highlights | Studioausstellung des Historischen Verei
 ns Bamberg\"
DTSTAMP:20260420T035607Z
END:VEVENT
BEGIN:VEVENT
UID:69e587b7e00d3
DTSTART:20260422T090000Z
SEQUENCE:0
TRANSP:OPAQUE
DTEND:20260422T150000Z
URL:https://www.bamberg.info/veranstaltungen/ausstellung_highlights_studioa
 -802033-12680669/
LOCATION:Historisches Museum - Bamberg
SUMMARY:Ausstellung \"Highlights | Studioausstellung des Historischen Verei
 ns Bamberg\"
DTSTAMP:20260420T035607Z
END:VEVENT
BEGIN:VEVENT
UID:69e587b7e00de
DTSTART:20260423T090000Z
SEQUENCE:0
TRANSP:OPAQUE
DTEND:20260423T150000Z
URL:https://www.bamberg.info/veranstaltungen/ausstellung_highlights_studioa
 -802033-12680669/
LOCATION:Historisches Museum - Bamberg
SUMMARY:Ausstellung \"Highlights | Studioausstellung des Historischen Verei
 ns Bamberg\"
DTSTAMP:20260420T035607Z
END:VEVENT
BEGIN:VEVENT
UID:69e587b7e00e7
DTSTART:20260424T090000Z
SEQUENCE:0
TRANSP:OPAQUE
DTEND:20260424T150000Z
URL:https://www.bamberg.info/veranstaltungen/ausstellung_highlights_studioa
 -802033-12680669/
LOCATION:Historisches Museum - Bamberg
SUMMARY:Ausstellung \"Highlights | Studioausstellung des Historischen Verei
 ns Bamberg\"
DTSTAMP:20260420T035607Z
END:VEVENT
BEGIN:VEVENT
UID:69e587b7e00ee
DTSTART:20260425T090000Z
SEQUENCE:0
TRANSP:OPAQUE
DTEND:20260425T150000Z
URL:https://www.bamberg.info/veranstaltungen/ausstellung_highlights_studioa
 -802033-12680669/
LOCATION:Historisches Museum - Bamberg
SUMMARY:Ausstellung \"Highlights | Studioausstellung des Historischen Verei
 ns Bamberg\"
DTSTAMP:20260420T035607Z
END:VEVENT
END:VCALENDAR