BEGIN:VCALENDAR
VERSION:2.0
PRODID:https://www.bamberg.info/
X-PUBLISHED-TTL:P1D
BEGIN:VEVENT
UID:69e587c82b558
DTSTART:20260421T090000Z
SEQUENCE:0
TRANSP:OPAQUE
DTEND:20260421T150000Z
URL:https://www.bamberg.info/veranstaltungen/ausstellung_juedisches_in_bamb
 -802027-12680561/
LOCATION:Historisches Museum - Bamberg
SUMMARY:Ausstellung  \"Jüdisches in Bamberg\"
DTSTAMP:20260420T035624Z
END:VEVENT
BEGIN:VEVENT
UID:69e587c82b5a1
DTSTART:20260422T090000Z
SEQUENCE:0
TRANSP:OPAQUE
DTEND:20260422T150000Z
URL:https://www.bamberg.info/veranstaltungen/ausstellung_juedisches_in_bamb
 -802027-12680561/
LOCATION:Historisches Museum - Bamberg
SUMMARY:Ausstellung  \"Jüdisches in Bamberg\"
DTSTAMP:20260420T035624Z
END:VEVENT
BEGIN:VEVENT
UID:69e587c82b5b0
DTSTART:20260423T090000Z
SEQUENCE:0
TRANSP:OPAQUE
DTEND:20260423T150000Z
URL:https://www.bamberg.info/veranstaltungen/ausstellung_juedisches_in_bamb
 -802027-12680561/
LOCATION:Historisches Museum - Bamberg
SUMMARY:Ausstellung  \"Jüdisches in Bamberg\"
DTSTAMP:20260420T035624Z
END:VEVENT
BEGIN:VEVENT
UID:69e587c82b5bd
DTSTART:20260424T090000Z
SEQUENCE:0
TRANSP:OPAQUE
DTEND:20260424T150000Z
URL:https://www.bamberg.info/veranstaltungen/ausstellung_juedisches_in_bamb
 -802027-12680561/
LOCATION:Historisches Museum - Bamberg
SUMMARY:Ausstellung  \"Jüdisches in Bamberg\"
DTSTAMP:20260420T035624Z
END:VEVENT
BEGIN:VEVENT
UID:69e587c82b5ca
DTSTART:20260425T090000Z
SEQUENCE:0
TRANSP:OPAQUE
DTEND:20260425T150000Z
URL:https://www.bamberg.info/veranstaltungen/ausstellung_juedisches_in_bamb
 -802027-12680561/
LOCATION:Historisches Museum - Bamberg
SUMMARY:Ausstellung  \"Jüdisches in Bamberg\"
DTSTAMP:20260420T035624Z
END:VEVENT
END:VCALENDAR