BEGIN:VCALENDAR
VERSION:2.0
PRODID:https://www.bamberg.info/
X-PUBLISHED-TTL:P1D
BEGIN:VEVENT
UID:69e587b7ad8b1
DTSTART:20260423T100000Z
SEQUENCE:0
TRANSP:OPAQUE
DTEND:20260423T160000Z
URL:https://www.bamberg.info/veranstaltungen/ausstellung_transparenz-802003
 -12680371/
LOCATION:Stadtgalerie Bamberg Villa Dessauer - Bamberg
SUMMARY:Ausstellung: „Transparenz“
DESCRIPTION:Jahresausstellung des Berufsverbands Bildender Künstlerinnen u
 nd Künstler Oberfrankens e.V. (BBK Ofr.)
DTSTAMP:20260420T035607Z
END:VEVENT
BEGIN:VEVENT
UID:69e587b7ad8d1
DTSTART:20260424T100000Z
SEQUENCE:0
TRANSP:OPAQUE
DTEND:20260424T160000Z
URL:https://www.bamberg.info/veranstaltungen/ausstellung_transparenz-802003
 -12680371/
LOCATION:Stadtgalerie Bamberg Villa Dessauer - Bamberg
SUMMARY:Ausstellung: „Transparenz“
DESCRIPTION:Jahresausstellung des Berufsverbands Bildender Künstlerinnen u
 nd Künstler Oberfrankens e.V. (BBK Ofr.)
DTSTAMP:20260420T035607Z
END:VEVENT
BEGIN:VEVENT
UID:69e587b7ad8db
DTSTART:20260425T100000Z
SEQUENCE:0
TRANSP:OPAQUE
DTEND:20260425T160000Z
URL:https://www.bamberg.info/veranstaltungen/ausstellung_transparenz-802003
 -12680371/
LOCATION:Stadtgalerie Bamberg Villa Dessauer - Bamberg
SUMMARY:Ausstellung: „Transparenz“
DESCRIPTION:Jahresausstellung des Berufsverbands Bildender Künstlerinnen u
 nd Künstler Oberfrankens e.V. (BBK Ofr.)
DTSTAMP:20260420T035607Z
END:VEVENT
END:VCALENDAR