BEGIN:VCALENDAR
VERSION:2.0
PRODID:https://www.bamberg.info/
X-PUBLISHED-TTL:P1D
BEGIN:VEVENT
UID:69ec35fe490aa
DTSTART:20260426T110000Z
SEQUENCE:0
TRANSP:OPAQUE
DTEND:20260426T150000Z
URL:https://www.bamberg.info/veranstaltungen/ausstellung_treffpunkt_dorf_wi
 -782743-12670281/
LOCATION:Bauernmuseum Bamberger Land - Frensdorf
SUMMARY:Ausstellung „Treffpunkt Dorf. Wirtshäuser und Tante-Emma-Läden
 “
DTSTAMP:20260425T053318Z
END:VEVENT
END:VCALENDAR