BEGIN:VCALENDAR
VERSION:2.0
PRODID:https://www.bamberg.info/
X-PUBLISHED-TTL:P1D
BEGIN:VEVENT
UID:69e6390917e83
DTSTART;VALUE=DATE:20260724
SEQUENCE:0
TRANSP:OPAQUE
DTEND;VALUE=DATE:20260727
URL:https://www.bamberg.info/veranstaltungen/bamberg_zaubert-806523/
LOCATION:Fußgängerzone - Bamberg
SUMMARY:Bamberg zaubert
X-MICROSOFT-CDO-ALLDAYEVENT:TRUE
DTSTAMP:20260420T163241Z
END:VEVENT
END:VCALENDAR