BEGIN:VCALENDAR
VERSION:2.0
PRODID:https://www.bamberg.info/
X-PUBLISHED-TTL:P1D
BEGIN:VEVENT
UID:69e54511ed41c
DTSTART;VALUE=DATE:20260726
SEQUENCE:0
TRANSP:OPAQUE
DTEND;VALUE=DATE:20260726
URL:https://www.bamberg.info/veranstaltungen/barocker_glanz-700541-12617237
 /
LOCATION:St. Michael - Bamberg
SUMMARY:Barocker Glanz
DESCRIPTION:Trompete und Orgel
X-MICROSOFT-CDO-ALLDAYEVENT:TRUE
DTSTAMP:20260419T231145Z
END:VEVENT
END:VCALENDAR