BEGIN:VCALENDAR
VERSION:2.0
PRODID:https://www.bamberg.info/
X-PUBLISHED-TTL:P1D
BEGIN:VEVENT
UID:69e703e82da0f
DTSTART;VALUE=DATE:20270108
SEQUENCE:0
TRANSP:OPAQUE
DTEND;VALUE=DATE:20270108
URL:https://www.bamberg.info/veranstaltungen/bochum-807245-12681901/
LOCATION:Kulturboden in der Marktscheune UG - Hallstadt
SUMMARY:Bochum
DESCRIPTION:Grönemeyer Tribute Band
X-MICROSOFT-CDO-ALLDAYEVENT:TRUE
DTSTAMP:20260421T065816Z
END:VEVENT
END:VCALENDAR