BEGIN:VCALENDAR
VERSION:2.0
PRODID:https://www.bamberg.info/
X-PUBLISHED-TTL:P1D
BEGIN:VEVENT
UID:69e80a8495ea8
DTSTART;VALUE=DATE:20260515
SEQUENCE:0
TRANSP:OPAQUE
DTEND;VALUE=DATE:20260515
URL:https://www.bamberg.info/veranstaltungen/bonhson-the_international_acdc
 -743227-12645643/
LOCATION:Live-Club GmbH & Co. KG - Bamberg
SUMMARY:BONHSON-The International AC/DC Tribute Band (CHL/ITA/DE)
X-MICROSOFT-CDO-ALLDAYEVENT:TRUE
DTSTAMP:20260422T013844Z
END:VEVENT
END:VCALENDAR