BEGIN:VCALENDAR
VERSION:2.0
PRODID:https://www.bamberg.info/
X-PUBLISHED-TTL:P1D
BEGIN:VEVENT
UID:69ed66421a4ad
DTSTART:20260530T120000Z
SEQUENCE:0
TRANSP:OPAQUE
DTEND:20260530T120000Z
URL:https://www.bamberg.info/veranstaltungen/das_bierseminar_der_deutschen-
 701993-12617557/
LOCATION:- Veranstaltung ohne festen Ort - Bamberg
SUMMARY:Das BierSeminar der Deutschen BierAkademie
DESCRIPTION:Das Kult-BierSeminar – entwickelt von Deutschlands bekanntest
 em Biersommelier Markus Raupach
DTSTAMP:20260426T031130Z
END:VEVENT
END:VCALENDAR