BEGIN:VCALENDAR
VERSION:2.0
PRODID:https://www.bamberg.info/
X-PUBLISHED-TTL:P1D
BEGIN:VEVENT
UID:69e99e96bfadf
DTSTART;VALUE=DATE:20260613
SEQUENCE:0
TRANSP:OPAQUE
DTEND;VALUE=DATE:20260613
URL:https://www.bamberg.info/veranstaltungen/das_maedchen_mit_der_pringlesd
 -808901-12683249/
LOCATION:ETA Hoffmann Theater Bamberg - Bamberg
SUMMARY:Das Mädchen mit der Pringlesdose\, Musical nach dem Theaterstück 
 „EXTRA ZERO“ von Elisabeth Pape - zum letzten Mal
DESCRIPTION:Freier Verkauf
X-MICROSOFT-CDO-ALLDAYEVENT:TRUE
DTSTAMP:20260423T062246Z
END:VEVENT
END:VCALENDAR