BEGIN:VCALENDAR
VERSION:2.0
PRODID:https://www.bamberg.info/
X-PUBLISHED-TTL:P1D
BEGIN:VEVENT
UID:69ebd0a986675
DTSTART:20260515T083000Z
SEQUENCE:0
TRANSP:OPAQUE
DTEND:20260515T093000Z
URL:https://www.bamberg.info/veranstaltungen/dem_himmel_so_nah_fuehrung_in-
 769055-0/
LOCATION:St. Michael - Bamberg
SUMMARY:Dem Himmel so nah – Führung in der Kirche St. Michael
DTSTAMP:20260424T222057Z
END:VEVENT
BEGIN:VEVENT
UID:69ebd0a9866c4
DTSTART:20260516T083000Z
SEQUENCE:0
TRANSP:OPAQUE
DTEND:20260516T093000Z
URL:https://www.bamberg.info/veranstaltungen/dem_himmel_so_nah_fuehrung_in-
 769055-0/
LOCATION:St. Michael - Bamberg
SUMMARY:Dem Himmel so nah – Führung in der Kirche St. Michael
DTSTAMP:20260424T222057Z
END:VEVENT
END:VCALENDAR