BEGIN:VCALENDAR
VERSION:2.0
PRODID:https://www.bamberg.info/
X-PUBLISHED-TTL:P1D
BEGIN:VEVENT
UID:69e578377cbb2
DTSTART;VALUE=DATE:20260424
SEQUENCE:0
TRANSP:OPAQUE
DTEND;VALUE=DATE:20260424
URL:https://www.bamberg.info/veranstaltungen/der_sandmann-661391/
LOCATION:Bamberger Marionettentheater - Bamberg
SUMMARY:Der Sandmann
DESCRIPTION:Schauspiel nach E.T.A. Hoffmann
X-MICROSOFT-CDO-ALLDAYEVENT:TRUE
DTSTAMP:20260420T024959Z
END:VEVENT
END:VCALENDAR