BEGIN:VCALENDAR
VERSION:2.0
PRODID:https://www.bamberg.info/
X-PUBLISHED-TTL:P1D
BEGIN:VEVENT
UID:69e578377d84a
DTSTART;VALUE=DATE:20260424
SEQUENCE:0
TRANSP:OPAQUE
DTEND;VALUE=DATE:20260424
URL:https://www.bamberg.info/veranstaltungen/dorn-roeschen-661389-12587273/
LOCATION:Bamberger Marionettentheater - Bamberg
SUMMARY:Dorn-Röschen
DESCRIPTION:Märchenspiel in der Kulisse der Bamberger Neuen Residenz
X-MICROSOFT-CDO-ALLDAYEVENT:TRUE
DTSTAMP:20260420T024959Z
END:VEVENT
END:VCALENDAR