BEGIN:VCALENDAR
VERSION:2.0
PRODID:https://www.bamberg.info/
X-PUBLISHED-TTL:P1D
BEGIN:VEVENT
UID:69e4c7bce7466
DTSTART;VALUE=DATE:20260430
SEQUENCE:0
TRANSP:OPAQUE
DTEND;VALUE=DATE:20260430
URL:https://www.bamberg.info/veranstaltungen/ein_sommernachtstraum-661401/
LOCATION:Bamberger Marionettentheater - Bamberg
SUMMARY:Ein Sommernachtstraum
DESCRIPTION:Komödie von William Shakespeare
X-MICROSOFT-CDO-ALLDAYEVENT:TRUE
DTSTAMP:20260419T141700Z
END:VEVENT
END:VCALENDAR