BEGIN:VCALENDAR
VERSION:2.0
PRODID:https://www.bamberg.info/
X-PUBLISHED-TTL:P1D
BEGIN:VEVENT
UID:69ec35dfa63a6
DTSTART:20260508T123000Z
SEQUENCE:0
TRANSP:OPAQUE
DTEND:20260508T140000Z
URL:https://www.bamberg.info/veranstaltungen/erlebnis_gaertnerstadt-inklusi
 -386085-12598423/
LOCATION:- Veranstaltung ohne festen Ort - Bamberg
SUMMARY:„Erlebnis Gärtnerstadt“ - inklusive Gärtnereibesuch und Museu
 m
DTSTAMP:20260425T053247Z
END:VEVENT
END:VCALENDAR