BEGIN:VCALENDAR
VERSION:2.0
PRODID:https://www.bamberg.info/
X-PUBLISHED-TTL:P1D
BEGIN:VEVENT
UID:69ec3447adaa5
DTSTART:20260501T160000Z
SEQUENCE:0
TRANSP:OPAQUE
DTEND:20260501T173000Z
URL:https://www.bamberg.info/veranstaltungen/erzaehlerfuehrung_der_bamberge
 -357993-12597401/
LOCATION:- Veranstaltung ohne festen Ort - Bamberg
SUMMARY:Erzählerführung: Der Bamberger Geschichtenerzähler
DESCRIPTION:Erzählerführung
DTSTAMP:20260425T052559Z
END:VEVENT
END:VCALENDAR