BEGIN:VCALENDAR
VERSION:2.0
PRODID:https://www.bamberg.info/
X-PUBLISHED-TTL:P1D
BEGIN:VEVENT
UID:69eaf7cf88cc1
DTSTART;VALUE=DATE:20260814
SEQUENCE:0
TRANSP:OPAQUE
DTEND;VALUE=DATE:20260814
URL:https://www.bamberg.info/veranstaltungen/fabienne_jost_singt_edith_piaf
 -809691/
LOCATION:Schloss Weissenstein - Pommersfelden
SUMMARY:Fabienne Jost singt Edith Piaf
X-MICROSOFT-CDO-ALLDAYEVENT:TRUE
DTSTAMP:20260424T065543Z
END:VEVENT
END:VCALENDAR