BEGIN:VCALENDAR
VERSION:2.0
PRODID:https://www.bamberg.info/
X-PUBLISHED-TTL:P1D
BEGIN:VEVENT
UID:69e6de1573170
DTSTART;VALUE=DATE:20270321
SEQUENCE:0
TRANSP:OPAQUE
DTEND;VALUE=DATE:20270321
URL:https://www.bamberg.info/veranstaltungen/fischer_jung-785867-12671253/
LOCATION:Kulturboden in der Marktscheune UG - Hallstadt
SUMMARY:Fischer & Jung
DESCRIPTION:Mädelsabend
X-MICROSOFT-CDO-ALLDAYEVENT:TRUE
DTSTAMP:20260421T041653Z
END:VEVENT
END:VCALENDAR