BEGIN:VCALENDAR
VERSION:2.0
PRODID:https://www.bamberg.info/
X-PUBLISHED-TTL:P1D
BEGIN:VEVENT
UID:69e9b44e66bdc
DTSTART;VALUE=DATE:20260517
SEQUENCE:0
TRANSP:OPAQUE
DTEND;VALUE=DATE:20260517
URL:https://www.bamberg.info/veranstaltungen/fragiles_erbe_bleibendes_licht
 -808881/
LOCATION:Diözesanmuseum des Erzbistums Bamberg - Bamberg
SUMMARY:Fragiles Erbe – bleibendes Licht:
DESCRIPTION:Mittelalterliche Glasmalerei des Andreasfensters im Dialog mit 
 der Gegenwart
X-MICROSOFT-CDO-ALLDAYEVENT:TRUE
DTSTAMP:20260423T075526Z
END:VEVENT
END:VCALENDAR