BEGIN:VCALENDAR
VERSION:2.0
PRODID:https://www.bamberg.info/
X-PUBLISHED-TTL:P1D
BEGIN:VEVENT
UID:69e5bd25a1c58
DTSTART;VALUE=DATE:20261105
SEQUENCE:0
TRANSP:OPAQUE
DTEND;VALUE=DATE:20261105
URL:https://www.bamberg.info/veranstaltungen/frontm3n-679819-12601005/
LOCATION:Kulturboden in der Marktscheune UG - Hallstadt
SUMMARY:FRONTM3N
DESCRIPTION:NOW AND TH3N - Tour 2025/26
X-MICROSOFT-CDO-ALLDAYEVENT:TRUE
DTSTAMP:20260420T074405Z
END:VEVENT
END:VCALENDAR