BEGIN:VCALENDAR
VERSION:2.0
PRODID:https://www.bamberg.info/
X-PUBLISHED-TTL:P1D
BEGIN:VEVENT
UID:69ed61d30a4fb
DTSTART;VALUE=DATE:20261230
SEQUENCE:0
TRANSP:OPAQUE
DTEND;VALUE=DATE:20261230
URL:https://www.bamberg.info/veranstaltungen/frueher_war_mehr_lametta-ein_a
 -778607/
LOCATION:Kulturboden in der Marktscheune UG - Hallstadt
SUMMARY:„Früher war mehr Lametta“ - ein Abend mit Loriot
DESCRIPTION:Ein Urgestein der deutschen Film-und Comedy-Szene
X-MICROSOFT-CDO-ALLDAYEVENT:TRUE
DTSTAMP:20260426T025235Z
END:VEVENT
END:VCALENDAR