BEGIN:VCALENDAR
VERSION:2.0
PRODID:https://www.bamberg.info/
X-PUBLISHED-TTL:P1D
BEGIN:VEVENT
UID:69ed66fa92cf5
DTSTART:20261107T170000Z
SEQUENCE:0
TRANSP:OPAQUE
DTEND:20261107T181500Z
URL:https://www.bamberg.info/veranstaltungen/fuehrung_feuer_met_und_hexensa
 -672081-12597309/
LOCATION:- Veranstaltung ohne festen Ort - Bamberg
SUMMARY:Führung: Feuer\, Met und Hexensalbe
DTSTAMP:20260426T031434Z
END:VEVENT
END:VCALENDAR