BEGIN:VCALENDAR
VERSION:2.0
PRODID:https://www.bamberg.info/
X-PUBLISHED-TTL:P1D
BEGIN:VEVENT
UID:69e54a6319dc8
DTSTART;VALUE=DATE:20260519
SEQUENCE:0
TRANSP:OPAQUE
DTEND;VALUE=DATE:20260519
URL:https://www.bamberg.info/veranstaltungen/gitarissimo_plus-632871/
LOCATION:Bürgersaal Stegaurach - Stegaurach
SUMMARY:Gitarissimo Plus
DESCRIPTION:Großes Konzert des Fachbereichs Zupfinstrumente
X-MICROSOFT-CDO-ALLDAYEVENT:TRUE
DTSTAMP:20260419T233427Z
END:VEVENT
END:VCALENDAR