BEGIN:VCALENDAR
VERSION:2.0
PRODID:https://www.bamberg.info/
X-PUBLISHED-TTL:P1D
BEGIN:VEVENT
UID:69ed679f7ab53
DTSTART:20260502T163000Z
SEQUENCE:0
TRANSP:OPAQUE
DTEND:20260502T174000Z
URL:https://www.bamberg.info/veranstaltungen/grusel-fuehrung_nachtgeister-3
 89183-12597515/
LOCATION:- Veranstaltung ohne festen Ort - Bamberg
SUMMARY:Grusel-Führung \"Nachtgeister\"
DTSTAMP:20260426T031719Z
END:VEVENT
END:VCALENDAR