BEGIN:VCALENDAR
VERSION:2.0
PRODID:https://www.bamberg.info/
X-PUBLISHED-TTL:P1D
BEGIN:VEVENT
UID:69e6de211dfd9
DTSTART;VALUE=DATE:20260425
SEQUENCE:0
TRANSP:OPAQUE
DTEND;VALUE=DATE:20260425
URL:https://www.bamberg.info/veranstaltungen/haensel_und_gretel-661393-1258
 7277/
LOCATION:Bamberger Marionettentheater - Bamberg
SUMMARY:Hänsel und Gretel
DESCRIPTION:Märchen in Anlehnung an die Oper von E. Humperdinck
X-MICROSOFT-CDO-ALLDAYEVENT:TRUE
DTSTAMP:20260421T041705Z
END:VEVENT
END:VCALENDAR