BEGIN:VCALENDAR
VERSION:2.0
PRODID:https://www.bamberg.info/
X-PUBLISHED-TTL:P1D
BEGIN:VEVENT
UID:69e8225006fc5
DTSTART;VALUE=DATE:20261221
SEQUENCE:0
TRANSP:OPAQUE
DTEND;VALUE=DATE:20261221
URL:https://www.bamberg.info/veranstaltungen/jahreszeitenwandern_fuer_traue
 -719323/
LOCATION:Klinikum am Bruderwald - Bamberg
SUMMARY:Jahreszeitenwandern für Trauernde
X-MICROSOFT-CDO-ALLDAYEVENT:TRUE
DTSTAMP:20260422T032016Z
END:VEVENT
END:VCALENDAR