BEGIN:VCALENDAR
VERSION:2.0
PRODID:https://www.bamberg.info/
X-PUBLISHED-TTL:P1D
BEGIN:VEVENT
UID:69e78066510e1
DTSTART;VALUE=DATE:20270207
SEQUENCE:0
TRANSP:OPAQUE
DTEND;VALUE=DATE:20270207
URL:https://www.bamberg.info/veranstaltungen/julia_alsheimer-755957-1265820
 9/
LOCATION:Kulturboden in der Marktscheune UG - Hallstadt
SUMMARY:Julia Alsheimer
DESCRIPTION:Sex ist mehr als nur ’ne Nummer
X-MICROSOFT-CDO-ALLDAYEVENT:TRUE
DTSTAMP:20260421T154926Z
END:VEVENT
END:VCALENDAR