BEGIN:VCALENDAR
VERSION:2.0
PRODID:https://www.bamberg.info/
X-PUBLISHED-TTL:P1D
BEGIN:VEVENT
UID:69e5087569309
DTSTART;VALUE=DATE:20260421
SEQUENCE:0
TRANSP:OPAQUE
DTEND;VALUE=DATE:20260421
URL:https://www.bamberg.info/veranstaltungen/kammerkonzert_klaviertrio-7742
 45/
LOCATION:Konzert- und Kongresshalle - Bamberg
SUMMARY:Kammerkonzert: Klaviertrio
X-MICROSOFT-CDO-ALLDAYEVENT:TRUE
DTSTAMP:20260419T185309Z
END:VEVENT
END:VCALENDAR