BEGIN:VCALENDAR
VERSION:2.0
PRODID:https://www.bamberg.info/
X-PUBLISHED-TTL:P1D
BEGIN:VEVENT
UID:69eae6f6956d6
DTSTART;VALUE=DATE:20260728
SEQUENCE:0
TRANSP:OPAQUE
DTEND;VALUE=DATE:20260728
URL:https://www.bamberg.info/veranstaltungen/kammermusikabend_i-809661-1268
 3533/
LOCATION:Schloss Weissenstein - Pommersfelden
SUMMARY:Kammermusikabend I
X-MICROSOFT-CDO-ALLDAYEVENT:TRUE
DTSTAMP:20260424T054350Z
END:VEVENT
END:VCALENDAR