BEGIN:VCALENDAR
VERSION:2.0
PRODID:https://www.bamberg.info/
X-PUBLISHED-TTL:P1D
BEGIN:VEVENT
UID:69eae6f0be7d2
DTSTART;VALUE=DATE:20260729
SEQUENCE:0
TRANSP:OPAQUE
DTEND;VALUE=DATE:20260729
URL:https://www.bamberg.info/veranstaltungen/kammermusikabend_ii-809663-126
 83535/
LOCATION:Schloss Weissenstein - Pommersfelden
SUMMARY:Kammermusikabend II
X-MICROSOFT-CDO-ALLDAYEVENT:TRUE
DTSTAMP:20260424T054344Z
END:VEVENT
END:VCALENDAR