BEGIN:VCALENDAR
VERSION:2.0
PRODID:https://www.bamberg.info/
X-PUBLISHED-TTL:P1D
BEGIN:VEVENT
UID:69eae6f69770f
DTSTART;VALUE=DATE:20260804
SEQUENCE:0
TRANSP:OPAQUE
DTEND;VALUE=DATE:20260804
URL:https://www.bamberg.info/veranstaltungen/kammermusikabend_iii-809675-12
 683547/
LOCATION:Schloss Weissenstein - Pommersfelden
SUMMARY:Kammermusikabend III
X-MICROSOFT-CDO-ALLDAYEVENT:TRUE
DTSTAMP:20260424T054350Z
END:VEVENT
END:VCALENDAR