BEGIN:VCALENDAR
VERSION:2.0
PRODID:https://www.bamberg.info/
X-PUBLISHED-TTL:P1D
BEGIN:VEVENT
UID:69eae890b4667
DTSTART;VALUE=DATE:20260805
SEQUENCE:0
TRANSP:OPAQUE
DTEND;VALUE=DATE:20260805
URL:https://www.bamberg.info/veranstaltungen/kammermusikabend_iv_mozart-abe
 -809677-12683549/
LOCATION:Schloss Weissenstein - Pommersfelden
SUMMARY:Kammermusikabend IV – Mozart-Abend
X-MICROSOFT-CDO-ALLDAYEVENT:TRUE
DTSTAMP:20260424T055040Z
END:VEVENT
END:VCALENDAR