BEGIN:VCALENDAR
VERSION:2.0
PRODID:https://www.bamberg.info/
X-PUBLISHED-TTL:P1D
BEGIN:VEVENT
UID:69eae70f28efd
DTSTART;VALUE=DATE:20260811
SEQUENCE:0
TRANSP:OPAQUE
DTEND;VALUE=DATE:20260811
URL:https://www.bamberg.info/veranstaltungen/kammermusikabend_v_barockabend
 -809685-12683557/
LOCATION:Schloss Weissenstein - Pommersfelden
SUMMARY:Kammermusikabend V – Barockabend mit Werken aus der Gräflich Sch
 önborn’schen Bibliothek
X-MICROSOFT-CDO-ALLDAYEVENT:TRUE
DTSTAMP:20260424T054415Z
END:VEVENT
END:VCALENDAR