BEGIN:VCALENDAR
VERSION:2.0
PRODID:https://www.bamberg.info/
X-PUBLISHED-TTL:P1D
BEGIN:VEVENT
UID:69eae70fa0862
DTSTART;VALUE=DATE:20260813
SEQUENCE:0
TRANSP:OPAQUE
DTEND;VALUE=DATE:20260813
URL:https://www.bamberg.info/veranstaltungen/kammermusikabend_vi-809689-126
 83561/
LOCATION:Schloss Weissenstein - Pommersfelden
SUMMARY:Kammermusikabend VI
X-MICROSOFT-CDO-ALLDAYEVENT:TRUE
DTSTAMP:20260424T054415Z
END:VEVENT
END:VCALENDAR