BEGIN:VCALENDAR
VERSION:2.0
PRODID:https://www.bamberg.info/
X-PUBLISHED-TTL:P1D
BEGIN:VEVENT
UID:69eae6f105630
DTSTART;VALUE=DATE:20260730
SEQUENCE:0
TRANSP:OPAQUE
DTEND;VALUE=DATE:20260730
URL:https://www.bamberg.info/veranstaltungen/kinderkonzert_ii-809667-126835
 39/
LOCATION:Schloss Weissenstein - Pommersfelden
SUMMARY:Kinderkonzert II
X-MICROSOFT-CDO-ALLDAYEVENT:TRUE
DTSTAMP:20260424T054345Z
END:VEVENT
END:VCALENDAR