BEGIN:VCALENDAR
VERSION:2.0
PRODID:https://www.bamberg.info/
X-PUBLISHED-TTL:P1D
BEGIN:VEVENT
UID:69ec1fa4d2e91
DTSTART;VALUE=DATE:20260426
SEQUENCE:0
TRANSP:OPAQUE
DTEND;VALUE=DATE:20260426
URL:https://www.bamberg.info/veranstaltungen/kinderkonzert_schiff_ahoi_kind
 -777759/
LOCATION:ETA Hoffmann Theater Bamberg - Bamberg
SUMMARY:Kinderkonzert: Schiff Ahoi! Kindergeschichten mit Musik ab 3 Jahren
DESCRIPTION:Freier Verkauf
X-MICROSOFT-CDO-ALLDAYEVENT:TRUE
DTSTAMP:20260425T035756Z
END:VEVENT
END:VCALENDAR