BEGIN:VCALENDAR
VERSION:2.0
PRODID:https://www.bamberg.info/
X-PUBLISHED-TTL:P1D
BEGIN:VEVENT
UID:69e9b43c2e3db
DTSTART;VALUE=DATE:20260721
SEQUENCE:0
TRANSP:OPAQUE
DTEND;VALUE=DATE:20260721
URL:https://www.bamberg.info/veranstaltungen/klavierabend_i_mit_bogdan_duga
 -808907/
LOCATION:Schloss Weissenstein - Pommersfelden
SUMMARY:Klavierabend I mit Bogdan Dugalic mit BR-Live Mitschnitt
X-MICROSOFT-CDO-ALLDAYEVENT:TRUE
DTSTAMP:20260423T075508Z
END:VEVENT
END:VCALENDAR