BEGIN:VCALENDAR
VERSION:2.0
PRODID:https://www.bamberg.info/
X-PUBLISHED-TTL:P1D
BEGIN:VEVENT
UID:69eafb60e66c1
DTSTART;VALUE=DATE:20260812
SEQUENCE:0
TRANSP:OPAQUE
DTEND;VALUE=DATE:20260812
URL:https://www.bamberg.info/veranstaltungen/klavierabend_ii_mit_csand_szek
 -809687/
LOCATION:Schloss Weissenstein - Pommersfelden
SUMMARY:Klavierabend II mit Csanád Szekrényessy
X-MICROSOFT-CDO-ALLDAYEVENT:TRUE
DTSTAMP:20260424T071056Z
END:VEVENT
END:VCALENDAR