BEGIN:VCALENDAR
VERSION:2.0
PRODID:https://www.bamberg.info/
X-PUBLISHED-TTL:P1D
BEGIN:VEVENT
UID:69e82224814d0
DTSTART;VALUE=DATE:20260507
SEQUENCE:0
TRANSP:OPAQUE
DTEND;VALUE=DATE:20260507
URL:https://www.bamberg.info/veranstaltungen/kneipensingen_mit_david_saam_r
 -743225/
LOCATION:Live-Club GmbH & Co. KG - Bamberg
SUMMARY:Kneipensingen mit David Saam & Res Richter
X-MICROSOFT-CDO-ALLDAYEVENT:TRUE
DTSTAMP:20260422T031932Z
END:VEVENT
END:VCALENDAR